[general]
creator=R package 'raster'
created=2021-06-11 13:33:52
[georeference]
nrows=267
ncols=554
xmin=-124.604166666
ymin=31.1875
xmax=-101.520833333
ymax=42.3125
projection=+proj=longlat +datum=NAD83 +no_defs +ellps=GRS80 +towgs84=0,0,0
[data]
datatype=FLT4S
byteorder=little
nbands=143
bandorder=BIL
minvalue=98:74:0:0:0:0:0:0:0:0:0:0:0:0:0:0:0:0:0:0:0:0:0:0:0:0:0:0:0:0:0:0:0:0:0:0:0:0:0:0:0:0:0:0:0:0:0:0:0:0:0:0:0:0:0:0:0:0:0:0:0:0:0:0:0:0:0:0:0:0:0:0:0:0:0:0:0:0:0:0:0:0:0:0:0:0:0:0:0:0:0:0:0:0:0:0:0:0:0:0:0:0:0:0:0:0:0:0:0:0:0:0:0:0:0:0:0:0:0:0:0:0:0:0:0:0:0:0:0:0:0:0:0:0:0:0:0:0:0:0:0:0:0
maxvalue=98:98:98:98:98:98:98:98:98:98:98:98:98:0:24:98:98:98:98:98:98:98:98:98:98:98:0:0:0:0:0:0:0:0:0:0:98:98:98:0:0:0:98:98:98:98:98:98:98:98:98:98:0:0:0:0:98:98:98:98:98:98:98:98:98:0:0:0:0:0:98:98:98:98:98:98:98:98:0:0:0:0:0:0:98:98:98:98:98:98:98:0:0:0:0:0:0:98:98:98:98:98:98:98:0:0:0:0:0:0:0:98:98:98:98:98:98:0:0:0:0:0:0:0:0:98:98:98:98:98:0:0:0:0:0:0:0:0:95:98:98:98:98
nodatavalue=-3.4e+38
[legend]
legendtype=
values=
color=
[description]
layername=Gen_0.1:Gen_0.2:Gen_0.3:Gen_0.4:Gen_0.5:Gen_0.6:Gen_0.7:Gen_0.8:Gen_0.9:Gen_0.10:Gen_0.11:Gen_0.12:Gen_0.13:Gen_1.1:Gen_1.2:Gen_1.3:Gen_1.4:Gen_1.5:Gen_1.6:Gen_1.7:Gen_1.8:Gen_1.9:Gen_1.10:Gen_1.11:Gen_1.12:Gen_1.13:Gen_10.1:Gen_10.2:Gen_10.3:Gen_10.4:Gen_10.5:Gen_10.6:Gen_10.7:Gen_10.8:Gen_10.9:Gen_10.10:Gen_10.11:Gen_10.12:Gen_10.13:Gen_2.1:Gen_2.2:Gen_2.3:Gen_2.4:Gen_2.5:Gen_2.6:Gen_2.7:Gen_2.8:Gen_2.9:Gen_2.10:Gen_2.11:Gen_2.12:Gen_2.13:Gen_3.1:Gen_3.2:Gen_3.3:Gen_3.4:Gen_3.5:Gen_3.6:Gen_3.7:Gen_3.8:Gen_3.9:Gen_3.10:Gen_3.11:Gen_3.12:Gen_3.13:Gen_4.1:Gen_4.2:Gen_4.3:Gen_4.4:Gen_4.5:Gen_4.6:Gen_4.7:Gen_4.8:Gen_4.9:Gen_4.10:Gen_4.11:Gen_4.12:Gen_4.13:Gen_5.1:Gen_5.2:Gen_5.3:Gen_5.4:Gen_5.5:Gen_5.6:Gen_5.7:Gen_5.8:Gen_5.9:Gen_5.10:Gen_5.11:Gen_5.12:Gen_5.13:Gen_6.1:Gen_6.2:Gen_6.3:Gen_6.4:Gen_6.5:Gen_6.6:Gen_6.7:Gen_6.8:Gen_6.9:Gen_6.10:Gen_6.11:Gen_6.12:Gen_6.13:Gen_7.1:Gen_7.2:Gen_7.3:Gen_7.4:Gen_7.5:Gen_7.6:Gen_7.7:Gen_7.8:Gen_7.9:Gen_7.10:Gen_7.11:Gen_7.12:Gen_7.13:Gen_8.1:Gen_8.2:Gen_8.3:Gen_8.4:Gen_8.5:Gen_8.6:Gen_8.7:Gen_8.8:Gen_8.9:Gen_8.10:Gen_8.11:Gen_8.12:Gen_8.13:Gen_9.1:Gen_9.2:Gen_9.3:Gen_9.4:Gen_9.5:Gen_9.6:Gen_9.7:Gen_9.8:Gen_9.9:Gen_9.10:Gen_9.11:Gen_9.12:Gen_9.13
